BEGIN:VCALENDAR
VERSION:2.0
PRODID:-//Interactive AI Magazine - ECPv6.6.4.2//NONSGML v1.0//EN
CALSCALE:GREGORIAN
METHOD:PUBLISH
X-WR-CALNAME:Interactive AI Magazine
X-ORIGINAL-URL:https://interactiveaimag.org
X-WR-CALDESC:Events for Interactive AI Magazine
REFRESH-INTERVAL;VALUE=DURATION:PT1H
X-Robots-Tag:noindex
X-PUBLISHED-TTL:PT1H
BEGIN:VTIMEZONE
TZID:America/Los_Angeles
BEGIN:DAYLIGHT
TZOFFSETFROM:-0800
TZOFFSETTO:-0700
TZNAME:PDT
DTSTART:20260308T100000
END:DAYLIGHT
BEGIN:STANDARD
TZOFFSETFROM:-0700
TZOFFSETTO:-0800
TZNAME:PST
DTSTART:20261101T090000
END:STANDARD
END:VTIMEZONE
BEGIN:VEVENT
DTSTART;TZID=America/Los_Angeles:20261123T090000
DTEND;TZID=America/Los_Angeles:20261124T180000
DTSTAMP:20260422T055216
CREATED:20260408T215923Z
LAST-MODIFIED:20260408T215923Z
UID:4468-1795424400-1795543200@interactiveaimag.org
SUMMARY:4th World Congress on Recycling & Waste Management
DESCRIPTION:We are excited to announce the 4th World Congress on Recycling & Waste Management (RECYCLING CONGRESS 2026)\, taking place on November 23–24\, 2026\, in Paris\, France\, with options to participate both in person and virtually.\nThe congress will focus on cutting-edge developments in recycling technologies\, circular economy strategies\, waste-to-energy systems\, sustainable resource recovery\, smart waste management solutions\, and environmental policies. Under the theme “Revolutionizing Waste Systems for Environmental Sustainability”\, participants will explore practical strategies to create efficient\, resilient\, and environmentally responsible waste management systems that address critical global sustainability challenges.International Waste Solutions Conference 2026| Global Recycling and Recovery Summit 2026| Environmental Waste Systems Congress 2026| Circular Materials Conference 2026| Sustainable Waste Innovation Expo 2026| Advanced Recycling Technologies Summit 2026| Solid Waste and Resource Management Congress 2026| Green Waste Management Forum 2026| Environmental Sustainability and Recycling Summit 2026| Integrated Waste Management Conference 2026| Waste Transformation Congress 2026
URL:https://interactiveaimag.org/event/4th-world-congress-on-recycling-waste-management/
LOCATION:Novotel Paris la Defense Esplanade Courbevoie FR\, 2 Bd de Neuilly\, 92081 Paris La Défense Cedex\, France Paris\, France\, Paris\, Paris\, --Choose One--\, 92081\, Canada
ATTACH;FMTTYPE=image/jpeg:https://interactiveaimag.org/wp-content/uploads/2026/03/4th_World_Congress_on_Recycling_and_Waste_Management_Paris_France_Banners.jpg
ORGANIZER;CN="Inovine Scientific Meetings":MAILTO:https://recycling.inovineconferences.com/
END:VEVENT
END:VCALENDAR