BEGIN:VCALENDAR
VERSION:2.0
PRODID:-//Interactive AI Magazine - ECPv6.6.4.2//NONSGML v1.0//EN
CALSCALE:GREGORIAN
METHOD:PUBLISH
X-ORIGINAL-URL:https://interactiveaimag.org
X-WR-CALDESC:Events for Interactive AI Magazine
REFRESH-INTERVAL;VALUE=DURATION:PT1H
X-Robots-Tag:noindex
X-PUBLISHED-TTL:PT1H
BEGIN:VTIMEZONE
TZID:Asia/Dubai
BEGIN:STANDARD
TZOFFSETFROM:+0400
TZOFFSETTO:+0400
TZNAME:+04
DTSTART:20250101T000000
END:STANDARD
TZID:America/Los_Angeles
BEGIN:DAYLIGHT
TZOFFSETFROM:-0800
TZOFFSETTO:-0700
TZNAME:PDT
DTSTART:20250309T100000
END:DAYLIGHT
BEGIN:STANDARD
TZOFFSETFROM:-0700
TZOFFSETTO:-0800
TZNAME:PST
DTSTART:20251102T090000
END:STANDARD
END:VTIMEZONE
BEGIN:VEVENT
DTSTART;TZID=Asia/Dubai:20250314T100000
DTEND;TZID=Asia/Dubai:20250515T180000
DTSTAMP:20260422T013507
CREATED:20250103T212653Z
LAST-MODIFIED:20250103T214854Z
UID:2400-1741946400-1747332000@interactiveaimag.org
SUMMARY:World AI Technology Expo 2025 Dubai
DESCRIPTION:World AI Technology Expo in Dubai stands as the largest and most comprehensive AI exhibition and seminar globally\, offering an unparalleled platform for innovation and collaboration. Attendees will experience an array of events including AI Conferences\, AI Expo\, AI Workshops\, AI Hackathons\, AI Awards\, AI Summit\, Open AI Events\, and AI Seminars\, ensuring they stay at the forefront of AI advancements. \nParticipants will have the unique opportunity to connect with over 3000 AI industry experts from more than 30 countries and 20+ industries\, fostering a network rich with insights and potential partnerships. This Expo isn’t just an event; it’s a launchpad for future leaders in AI\, providing attendees with firsthand access to groundbreaking technologies\, industry trends\, and invaluable knowledge shared by the brightest minds in the field. \nIt’s a place where cutting-edge technologies are introduced\, and thought-provoking discussions take place. Whether you’re an AI novice or a seasoned expert\, this expo offers something for everyone.
URL:https://interactiveaimag.org/event/world-ai-technology-expo-2025-dubai/
LOCATION:Movenpick Grand Albustan Hotel\, Dubai\, 51st Street & - Casablanca St - Al Garhoud - Dubai - United Arab Emirates\, Dubai\, Dubai\, 00000\, United Arab Emirates
ATTACH;FMTTYPE=image/jpeg:https://interactiveaimag.org/wp-content/uploads/2025/01/world-ai-technology-expo-banner.webp.jpg
ORGANIZER;CN="Golden Tree Event":MAILTO:events@goldentreeevent.com
END:VEVENT
BEGIN:VEVENT
DTSTART;VALUE=DATE:20250404
DTEND;VALUE=DATE:20250407
DTSTAMP:20260422T013507
CREATED:20240722T160119Z
LAST-MODIFIED:20240722T160119Z
UID:1931-1743724800-1743983999@interactiveaimag.org
SUMMARY:ICEIS 2025
DESCRIPTION:27th International Conference on Enterprise Information Systems \nUPCOMING SUBMISSION DEADLINES\nRegular Paper Submission: October 29\, 2024\nPosition/Regular Paper Submission: December 13\, 2024\n(See Important Dates for more information)\nThe purpose of the International Conference on Enterprise Information Systems (ICEIS) is to bring together researchers\, engineers and practitioners interested in the advances and business applications of information systems\, covering different aspects such as Enterprise Database Technology\, Systems Integration\, Artificial Intelligence\, Decision Support Systems\, Information Systems Analysis and Specification\, Internet Computing\, Electronic Commerce\, Human-Computer Interaction and Enterprise Architecture.\n\nCONFERENCE AREAS\n1 . Databases and Information Systems Integration \n2 . Artificial Intelligence and Decision Support Systems \n3 . Information Systems Analysis and Specification \n4 . Software Agents and Internet Computing \n5 . Human-Computer Interaction \n6 . Enterprise Architecture
URL:https://interactiveaimag.org/event/iceis-2025/
END:VEVENT
END:VCALENDAR